Workbook
Name Htotale: 'A.P. ISOLCUPOLEX'!$B$15
Name rck: 'A.P. ISOLCUPOLEX'!$C$14
Name scelta_cls: 'A.P. ISOLCUPOLEX'!$C$14
Name sp_cappa: 'A.P. ISOLCUPOLEX'!$B$17

Sheet A.P. ISOLCUPOLEX
D1: DATA: 26/3/2024
D2: CLIENTE: Arch. Pacifico
D3: CANTIERE: Scuola Duca D'Aosta - Cordenons (PN)
K4: =C6+C9+C10+C12 -> 41
B5: Htot Isolcupolex | C5: 41 | D5: cm | E5: Altezza vespaio (raso cupola) Hisolcup + Hpiede
B6: Hcupola | C6: 16 | D6: cm | E6: altezza cupola (H min=8,5 cm) | I6: =IF(C6<8.5,"CORREGGERE ALTEZZA CUPOLA","Hcupola CORRETTA") -> Hcupola CORRETTA | M6: =IF((C5-C6)=2.5,1,10) -> 10
B7: Hvuoto | C7: =C5-C6 -> 25
B8: Verifica Hvespaio | C8: =IF((C7)<2.5,"H vuoto minimo 2,5 cm",IF((C7=2.5),"OK",IF((C7)<5,"Hvuoto 2,5 cm / 5 cm o maggiore di 8 cm",IF((C7=5),"OK",IF((C7<8),"H vuoto 2,5 cm / 5 cm / 8 cm",IF((C7<250),"OK")))))) -> OK | D8: cm | E8: =IF(C7=0,"No Isolpiede","Altezza Tot. Piede") -> Altezza Tot. Piede | G8: =IF(C8<80,"","Prevedere tubo PVC per H>50 cm") -> Prevedere tubo PVC per H>50 cm | K8: SI
B9: Hvaschetta | C9: =IF(C5-C6<7,MROUND(C5-C6,2.5),0) -> 0 | D9: cm | E9: =IF(C9=0,"No Vaschetta",CONCATENATE("1 piedino da 2,5 cm + nr.",(C9-2.5)/2.5," vaschetta da 2,5 cm")) -> No Vaschetta | M9: =IF(C9>2.5,2,20) -> 20
B10: H Isolpiede>=8cm | C10: =IF(C7<8.5,0,IF(K8="no",C7,IF(K8="si",IF(C7<=50,C7,50)))) -> 25 | D10: cm | E10: =IF(C10=0,"NO Isolpiede","Lunghezza Isolpiede in EPS") -> Lunghezza Isolpiede in EPS | M10: =IF(C10<8.5,40,IF(C10>=8,4,)) -> 4
B11: Sottopiede | C11: Clc 05 | D11: cm | E11: =IF(C12>0,"",VLOOKUP(C11,tabelle!A13:C15,2,FALSE)) -> Cls cellulare N/mmq≥5 spessore 5 cm | I11: =IF(C10=0,"Solo Sottopiede in EPS",IF(C12>1,"NO Sottopiede con Tubo in PVC",IF(C12>0,"",))) -> 0 | N11: =IF(C9>0,tabelle!A15,"") | O11: =IF(C9>0,tabelle!B15,"")
B12: H tubo PVC | C12: =IF(C7<50,0,(C7-C10)) -> 0 | D12: cm | E12: =IF(C12=0,"No Tubo PVC","Altezza utile Tubo PVC Ø 125mm") -> No Tubo PVC | M12: =IF(C12=0,80,8) -> 80
B13: Cls = | C13: =VLOOKUP(D13,Tabella1[],2) -> C25/30 | D13: d | E13: classe di resistenza a compressione del calcestruzzo
B14: sC = | C14: 5 | D14: cm | E14: spessore della cappa strutturale del vespaio
B15: Htot = | C15: =C5+rck -> 46 | D15: cm | E15: altezza totale (cupole, piede e soletta)
M17: =SUM($M$6:$M$16) -> 114
O21: =IF(C10<=2.5,"",IF(C12>2.5,"",CONCATENATE("ISOLPIEDE in EPS CS (10) 100 classe E (Euroclasse di Reazione al Fuoco) avente dimensioni di ingombro 30,5 x 30,5 cm ed altezza ",C10," cm"))) -> ISOLPIEDE in EPS CS (10) 100 classe E (Euroclasse di Reazione al Fuoco) avente dimensioni di ingombro 30,5 x 30,5 cm ed altezza 25 cm
O22: =IF(C12=0,"",CONCATENATE("ISOLPIEDE in EPS CS (10) 100 classe E (Euroclasse di Reazione al Fuoco) avente dimensioni di ingombro 30,5 x 30,5 cm ed altezza ",C10," cm, TUBO in PVC diametro 125mm L.",C12," e BASE di allineamento in materiale plastico avente interasse pari a 57,0 x 57,0 cm"))
O23: =IF(C9<=2.5,"","VASCHETTA di sollevamento in EPS CS (10) 100 classe E (Euroclasse di Reazione al Fuoco) avente dimensione 24,3 x 24,3 cm e spessore 2,5 cm (H utile min 5,0 cm)")
A25: COD. | B25: DESCRIZIONE | G25: U.M. | H25: QUANTITA' | J25: COSTO UNITARIO | K25: IMPORTO | O25: =IF((C5-C6)=2.5,CONCATENATE("ISOLCUPOLA in EPS CS (15) 150 classe E (Euroclasse di Reazione al Fuoco) avente dimensioni 57,0 x 57,0 cm e spessore nominale ",C6," cm completo di CORONA di Collegamento e munita di piedini da 2,5 cm "),CONCATENATE("ISOLCUPOLA in EPS CS (15) 150 classe E (Euroclasse di Reazione al Fuoco) avente dimensioni 57,0 x 57,0 cm e spessore nominale ",C6," cm;")) -> ISOLCUPOLA in EPS CS (15) 150 classe E (Euroclasse di Reazione al Fuoco) avente dimensioni 57,0 x 57,0 cm e spessore nominale 16 cm;
A27: A | B27: Manodopera | O27: =IF(C11="NO","",IF(C12>0,"",IF(C12<>"NO", CONCATENATE("SOTTOPIEDE in ",E11,"")))) -> SOTTOPIEDE in Cls cellulare N/mmq≥5 spessore 5 cm
A28: 1 | B28: Operaio Comune per posa sitema Isolcupolex | G28: ora | H28: =IF(M17=42,P42,IF(M17=141,P43,P41)) -> 0.11 | J28: 35 | K28: =H28*J28 -> 3.85
A29: 2 | B29: Operaio Specializzato per getto calcestruzzo | G29: ora | H29: =IF(M17=42,Q42,IF(M17=141,Q43,Q41)) -> 0.12 | J29: 35 | K29: =H29*J29 -> 4.2
B30: Sommano mano d'opera | K30: =SUM(K28:L29) -> 8.05 | N30: 141 | O30: =CONCATENATE("Fornitura sistema ISOLCUPOLEX H=",C5," cm completo di Isolcupole in EPS H=",C6," cm, Piedino da 2,5 cm e CORONE di giunzione") -> Fornitura sistema ISOLCUPOLEX H=41 cm completo di Isolcupole in EPS H=16 cm, Piedino da 2,5 cm e CORONE di giunzione
A32: B | B32: Materiali e forniture | N32: 132 | O32: =CONCATENATE("Fornitura sistema ISOLCUPOLEX H=",C5," cm completo di Isolcupole in EPS H=",C6," cm",C6," cm e Vaschette in EPS (vuoto tot. cm ",C8,")") -> Fornitura sistema ISOLCUPOLEX H=41 cm completo di Isolcupole in EPS H=16 cm16 cm e Vaschette in EPS (vuoto tot. cm OK)
A33: 1 | B33: =IF(M17=141,O30,IF(M17=132,O32,IF(M17=114,O34,IF(M17=42,O36)))) -> Fornitura sistema ISOLCUPOLEX H=41 cm completo di Isolcupole in EPS h=16 cm e Isolpiede in EPS H=25 cm | G33: mq | H33: 1 | J33: 33 | K33: =H33*J33 -> 33
N34: 114 | O34: =CONCATENATE("Fornitura sistema ISOLCUPOLEX H=",C5," cm completo di Isolcupole in EPS h=",C6," cm e Isolpiede in EPS H=",C10," cm") -> Fornitura sistema ISOLCUPOLEX H=41 cm completo di Isolcupole in EPS h=16 cm e Isolpiede in EPS H=25 cm
A35: 2 | B35: =CONCATENATE("Calcestruzzo ",C13," a raso Isolcupolex") -> Calcestruzzo C25/30 a raso Isolcupolex | G35: mc | H35: =tabelle!O12 -> 0.022534 | J35: 115 | K35: =H35*J35 -> 2.59141
A36: 3 | B36: =CONCATENATE("Calcestruzzo ",C13," per cappa spessore ",rck," cm") -> Calcestruzzo C25/30 per cappa spessore 5 cm | G36: mc | H36: =rck*0.01 -> 0.05 | J36: 115 | K36: =H36*J36 -> 5.75 | N36: 42 | O36: =CONCATENATE("Fornitura sistema ISOLCUPOLEX H=",C5," cm completo di Isolcupole in EPS H=",C6," cm, Isolpiede in EPS L.=",C10," cm e Tubo in PVC L.=",C12," cm con Basi (vuoto tot. cm ",C8,")") -> Fornitura sistema ISOLCUPOLEX H=41 cm completo di Isolcupole in EPS H=16 cm, Isolpiede in EPS L.=25 cm e Tubo in PVC L.=0 cm con Basi (vuoto tot. cm OK)
B37: Sommano materiali e forniture | K37: =SUM(K33:L36) -> 41.34141
A39: C | B39: Noli e Trasporti | P39: TEMPI DI POSA
A40: 1 | B40: Trasporto da San Vito al T (PN) al cantiere | G40: mq | H40: 1 | J40: 1 | K40: =H40*J40 -> 1 | P40: POSA | Q40: CLS
A41: 2 | B41: Vario e imponderabile | G41: forfait | H41: 1 | J41: 0 | K41: =H41*J41 -> 0 | O41: NO TUBO | P41: 0.11 | Q41: 0.12
B42: Sommano noli e trasporti | K42: =SUM(K38:L41) -> 1 | O42: SI TUBO | P42: 0.13 | Q42: 0.13
O43: CORONA | P43: 0.09 | Q43: 0.11
A44: D1 | B44: Totale Costi | K44: =K30+K37+K42 -> 50.39141
A46: D2 | B46: Spese Generali | H46: 0.15 | J46: di D1 | K46: =K44*H46 -> 7.5587115
A47: D3 | B47: Utile d'Impresa | H47: 0.1 | J47: di D1 + D2 | K47: =(K44+K46)*H47 -> 5.7950121
B48: Prezzo di applicazione | K48: =K44+K46+K47 -> 63.745134
B49: Arrotondamenti | K49: =ROUNDUP(K48,1)-K48 -> 0.05486635
...

Sheet VOCE DI CAPITOLATO
E1: VOCE DI CAPITOLATO
A2: Fornitura e posa in opera, su piano preformato, di vespaio aerato isolato a cappotto tipo Isolcupolex o similari a bassa conducibilità termica (0,031 W/m2*K) prodotto con EPS tipo Twinpor o similari e rispondente ai Criteri Ambientali Minimi (CAM). Il sistema comprende elementi piatti isolanti di spessore nominale pari a …………................. cm (da 8,5 cm in su), atti a formare un piano perfettamente orizzontale per ridurre i consumi di calcestruzzo e consentire una agevole posa degli impianti. Tali elementi orizzontali isolati sono di spessore variabile in funzione dell’isolamento richiesto e vengono posati su piedi monolitici isolati da 10 cm di spessore medio di EPS tipo Twinpor o similari. Mediamente sono presenti 3 piedi al mq per ridurre i ponti termici, i tempi di posa e il consumo di calcestruzzo. Tali piedi isolati forniscono l’altezza del vespaio, pari a ................ cm e vengono posati su sottopiedi (in EPS 200 o ad alta resistenza, indeformabili fino a 10.000 kg/m2) che fungono da taglio termico alla base del vespaio e non incidono sull’altezza del vuoto sanitario. A posa avvenuta sarà posta in opera l’armatura metallica come da progetto, questa esclusa e pagata con voce a parte. Successivamente verrà effettuato il getto di calcestruzzo avente classe di resistenza C25/30 (Rck 30), procedendo inizialmente con il riempimento dei piedi e quindi con la formazione della cappa superiore agli elementi piatti, che sarà dello spessore previsto dal progetto. Prezzo in opera compresa la fornitura e posa del calcestruzzo con rifinitura superiore a stadia e ogni altro onere e magistero per dare il lavoro compiuto a regola d’arte con esclusione del ferro d’armatura e della formazione del piano di appoggio sottostante.

Sheet tabelle
A2: TIPO CLS
A3: Colonna1 | B3: Colonna2 | C3: Colonna3
A4: c | B4: C20/25 | C4: (Rck 25) | K4: CALCOLO CONSUMO CALCESTRUZZO
A5: d | B5: C25/30 | C5: (Rck 30) | K5: CUPOLA
A6: e | B6: C28/35 | C6: (Rck 35) | K6: mc/mq x H=10 | L6: mc/mq/cm oltre 10 cm | M6: H Cupola cm
A7: f | B7: C30/37 | C7: (Rck 37) | K7: 0.0099 | L7: 0.000488 | M7: ='A.P. ISOLCUPOLEX'!C6 -> 16 | N7: Cls mc/mq | O7: =(K7+(L7*(M7-10))) -> 0.012828
A8: g | B8: C32/40 | C8: (Rck 40)
A9: h | B9: C35/415 | C9: (Rck 45) | K9: PIEDE
K10: mc/mq x H=15 | L10: mc/mq/cm oltre 15 cm | M10: H Piede cm
K11: 0.006776 | L11: 0.000293 | M11: ='A.P. ISOLCUPOLEX'!C7 -> 25 | N11: Cls mc/mq | O11: =K11+((M11-15)*L11) -> 0.009706
A12: Colonna1 | B12: Colonna2 | C12: Colonna3 | M12: Tot. Cls mc/mq | O12: =O7+O11 -> 0.022534
A13: NO | B13: - | C13: -
A14: Eps 03 | B14: Eps CS(20)200 spessore 3 cm | C14: 3 | K14: CALCOLO CARICO AL PIEDE
A15: Clc 05 | B15: Cls cellulare N/mmq≥5 spessore 5 cm | C15: 5 | K15: CARICO AL PIEDE (cmq/mq | M15: =13.6/2*13.6/2*3.14*3.08 -> 447.19629 | N15: )
J16: ICR H= | K16: cm | L16: =M7+M11 -> 41
J17: SOLETTA SP. | K17: cm | L17: 5
A18: Colonna1 | G18: NO | H18: - | I18: - | J18: SOVR. PERM | K18: kg/mq | L18: 200
A19: SI | G19: Eps 03 | H19: Eps CS(20)200 | I19: 3 | J19: SOVR. ACC. | K19: kg/mq | L19: 300
A20: NO | G20: Clc 05 | H20: Cls cellul. N/mm2>5 | I20: 5 | J20: peso CLS | K20: kg/mc | L20: 2400
K21: kg/cmq | L21: =((((O12+(L17/100))*L20)+L18+L19)/M15) -> 1.5073506

Sheet Immagini
A1: corona
A2: vaschetta
A4: tubo
